BEGIN:VCALENDAR
VERSION:2.0
PRODID:-//PTR Waterfront Restaurant - ECPv6.15.20//NONSGML v1.0//EN
CALSCALE:GREGORIAN
METHOD:PUBLISH
X-WR-CALNAME:PTR Waterfront Restaurant
X-ORIGINAL-URL:https://ptrwaterfront.com
X-WR-CALDESC:Events for PTR Waterfront Restaurant
REFRESH-INTERVAL;VALUE=DURATION:PT1H
X-Robots-Tag:noindex
X-PUBLISHED-TTL:PT1H
BEGIN:VTIMEZONE
TZID:UTC
BEGIN:STANDARD
TZOFFSETFROM:+0000
TZOFFSETTO:+0000
TZNAME:UTC
DTSTART:20250101T000000
END:STANDARD
END:VTIMEZONE
BEGIN:VEVENT
DTSTART;TZID=UTC:20260419T140000
DTEND;TZID=UTC:20260419T160000
DTSTAMP:20260419T125344
CREATED:20260314T184904Z
LAST-MODIFIED:20260314T184904Z
UID:3946-1776607200-1776614400@ptrwaterfront.com
SUMMARY:Red Apron Paint and Sip
DESCRIPTION:
URL:https://ptrwaterfront.com/event/red-apron-paint-and-sip/
END:VEVENT
BEGIN:VEVENT
DTSTART;TZID=UTC:20260425T100000
DTEND;TZID=UTC:20260426T153000
DTSTAMP:20260419T125344
CREATED:20260314T184810Z
LAST-MODIFIED:20260314T184810Z
UID:3942-1777111200-1777217400@ptrwaterfront.com
SUMMARY:Spring Craft and Small Business Showcase and Community Yard Sale
DESCRIPTION:Join us for PTR’s Spring Craft & Small Business Showcase + Community Yard Sale!Shop local vendors\, handmade crafts\, unique finds\, and community yard sale treasures all in one place along the waterfront. Saturday\, April 25\, 2026 10:00 AM – 3:30 PM PTR Waterfront7536 Shirley Blvd.Port Tobacco\, MDInterested in being a vendor or yard sale participant? Email Info@ptrwaterfront.comCome support local businesses and enjoy a beautiful spring day with us! 
URL:https://ptrwaterfront.com/event/spring-craft-and-small-business-showcase-and-community-yard-sale/
END:VEVENT
BEGIN:VEVENT
DTSTART;TZID=UTC:20260510T110000
DTEND;TZID=UTC:20260510T150000
DTSTAMP:20260419T125344
CREATED:20260131T191051Z
LAST-MODIFIED:20260402T214247Z
UID:3799-1778410800-1778425200@ptrwaterfront.com
SUMMARY:Mother's Day Brunch Buffet
DESCRIPTION:Calling ALL MOMS!!! \nGet Spoiled at PTR!!! Great Food\, Great Drinks\, Great River Views! \nAll You Can Eat Breakfast Buffet and Bottomless Mimosas from 11am-3pm. \nRegular menu available 3:30-9pm. \nAll Steamers available at Market Price. \nPlus Live Music by Monkey Business from 4-7pm
URL:https://ptrwaterfront.com/event/mothers-day-all-day-buffet/
LOCATION:PTR Waterfront Restaurant\, 7536 Shirley Blvd\, Port Tobacco\, MD\, 20677\, United States
ORGANIZER;CN="PTR Waterfront Restaurant":MAILTO:info@ptrwaterfront.com
END:VEVENT
BEGIN:VEVENT
DTSTART;TZID=UTC:20260515T190000
DTEND;TZID=UTC:20260515T220000
DTSTAMP:20260419T125344
CREATED:20260213T024928Z
LAST-MODIFIED:20260402T214700Z
UID:3827-1778871600-1778882400@ptrwaterfront.com
SUMMARY:Live Music by Taboo
DESCRIPTION:  \n \nJoin us for live music by Taboo from 7-10pm while enjoying river front views! \nKeep the enjoyment going with great food and great drinks at PTR! See you there!
URL:https://ptrwaterfront.com/event/live-music-by-taboo/
END:VEVENT
BEGIN:VEVENT
DTSTART;TZID=UTC:20260522T180000
DTEND;TZID=UTC:20260522T220000
DTSTAMP:20260419T125344
CREATED:20260402T213822Z
LAST-MODIFIED:20260402T213822Z
UID:4007-1779472800-1779487200@ptrwaterfront.com
SUMMARY:Goodbye Vienna Live Music
DESCRIPTION:80s\, 90s\, and 2000 Party Rock Band
URL:https://ptrwaterfront.com/event/goodbye-vienna-live-music/
END:VEVENT
BEGIN:VEVENT
DTSTART;TZID=UTC:20260523T180000
DTEND;TZID=UTC:20260523T220000
DTSTAMP:20260419T125344
CREATED:20260402T214007Z
LAST-MODIFIED:20260402T214007Z
UID:4010-1779559200-1779573600@ptrwaterfront.com
SUMMARY:Thunderball Live Music
DESCRIPTION:Rock\, Country\, Metal and Pop
URL:https://ptrwaterfront.com/event/thunderball-live-music/
END:VEVENT
BEGIN:VEVENT
DTSTART;TZID=UTC:20260525T110000
DTEND;TZID=UTC:20260525T210000
DTSTAMP:20260419T125344
CREATED:20260213T025540Z
LAST-MODIFIED:20260402T215624Z
UID:3830-1779706800-1779742800@ptrwaterfront.com
SUMMARY:Memorial Day at PTR with The Hometown Band
DESCRIPTION:Join us in Remembering and Honoring! \nLive Music by The Hometown Band a PTR Favorite from 2-6pm! \nBeer Buckets available! \nOf Course\, Great Food\, Drinks and River Views!
URL:https://ptrwaterfront.com/event/memorial-day-at-ptr/
END:VEVENT
BEGIN:VEVENT
DTSTART;TZID=UTC:20260620T180000
DTEND;TZID=UTC:20260620T220000
DTSTAMP:20260419T125344
CREATED:20260302T020432Z
LAST-MODIFIED:20260302T022809Z
UID:3926-1781978400-1781992800@ptrwaterfront.com
SUMMARY:Never 2 Late SOMD   (Live Music)
DESCRIPTION:Live Music by NEVER 2 LATE SOMD \nRock it out from 6-10 pm \nPTR Waterfront!
URL:https://ptrwaterfront.com/event/never-2-late-somd-live-music/
END:VEVENT
BEGIN:VEVENT
DTSTART;TZID=UTC:20260621T110000
DTEND;TZID=UTC:20260621T210000
DTSTAMP:20260419T125344
CREATED:20260131T191213Z
LAST-MODIFIED:20260402T215043Z
UID:3803-1782039600-1782075600@ptrwaterfront.com
SUMMARY:Father's Day Brunch Buffet
DESCRIPTION:  \nSpoil Dads at PTR on Sunday\, June 21st from 11am-9pm!All You Can Eat Breakfast Buffet from 11am-3pm and Regular Menu from 3:30-9pm!Beer Bucket Specials!Steamed Shrimp\, Snow Crab Legs and Maryland Blue Crabs available at Market Price.Live Music by The Steve Potter Band 4-7pm\n301.392.0007www.ptrwaterfront.com
URL:https://ptrwaterfront.com/event/fathers-day-all-day-buffet/
LOCATION:PTR Waterfront Restaurant\, 7536 Shirley Blvd\, Port Tobacco\, MD\, 20677\, United States
ORGANIZER;CN="PTR Waterfront Restaurant":MAILTO:info@ptrwaterfront.com
END:VEVENT
BEGIN:VEVENT
DTSTART;TZID=UTC:20260703T180000
DTEND;TZID=UTC:20260703T220000
DTSTAMP:20260419T125344
CREATED:20260402T213511Z
LAST-MODIFIED:20260402T213531Z
UID:4000-1783101600-1783116000@ptrwaterfront.com
SUMMARY:Juniper Lights Live Music
DESCRIPTION:1990s-2000s Party Band Music brought to you by Juniper Lights
URL:https://ptrwaterfront.com/event/juniper-lights-live-music/
END:VEVENT
BEGIN:VEVENT
DTSTART;TZID=UTC:20260705T150000
DTEND;TZID=UTC:20260705T180000
DTSTAMP:20260419T125344
CREATED:20260402T213204Z
LAST-MODIFIED:20260402T213551Z
UID:3997-1783263600-1783274400@ptrwaterfront.com
SUMMARY:All Funk Experience Live Music
DESCRIPTION:Join us for Live Music by All Funk Experience. \nBringing you Funk\, Reggae\, R&B\, and Classic Rock
URL:https://ptrwaterfront.com/event/all-funk-experience/
END:VEVENT
BEGIN:VEVENT
DTSTART;TZID=UTC:20260712T160000
DTEND;TZID=UTC:20260712T190000
DTSTAMP:20260419T125344
CREATED:20260213T031712Z
LAST-MODIFIED:20260402T212955Z
UID:3836-1783872000-1783882800@ptrwaterfront.com
SUMMARY:Monkey Business Live Music
DESCRIPTION:Live Music by Monkey Business! \n60s\, 70s\, Rock and Soul all on the waterfront! \nEat\, Sip and Relax!
URL:https://ptrwaterfront.com/event/live-music-2/
END:VEVENT
BEGIN:VEVENT
DTSTART;TZID=UTC:20260801T170000
DTEND;TZID=UTC:20260801T200000
DTSTAMP:20260419T125344
CREATED:20260213T032138Z
LAST-MODIFIED:20260402T212915Z
UID:3839-1785603600-1785614400@ptrwaterfront.com
SUMMARY:Monkey Business Live Music
DESCRIPTION:Monkey Business is back again to give you the best 60s\, 70s\, rock and soul music! \nHappy August 1st from PTR! Enjoy the river vibes!
URL:https://ptrwaterfront.com/event/live-music-3/
END:VEVENT
BEGIN:VEVENT
DTSTART;TZID=UTC:20260822T180000
DTEND;TZID=UTC:20260822T210000
DTSTAMP:20260419T125344
CREATED:20260314T185452Z
LAST-MODIFIED:20260402T212855Z
UID:3954-1787421600-1787432400@ptrwaterfront.com
SUMMARY:Justin Taylor Live Music
DESCRIPTION:
URL:https://ptrwaterfront.com/event/justin-taylor-live/
END:VEVENT
BEGIN:VEVENT
DTSTART;TZID=UTC:20260905T180000
DTEND;TZID=UTC:20260905T220000
DTSTAMP:20260419T125344
CREATED:20260402T215330Z
LAST-MODIFIED:20260402T215330Z
UID:4022-1788631200-1788645600@ptrwaterfront.com
SUMMARY:Be Kind and Rewind Live Music
DESCRIPTION:Be Kind and Rewind will be coming to PTR to play your favorite 90s music!!! \nThe Ultimate 90s Experience at PTR!
URL:https://ptrwaterfront.com/event/be-kind-and-rewind-live-music/
END:VEVENT
BEGIN:VEVENT
DTSTART;TZID=UTC:20260907T140000
DTEND;TZID=UTC:20260907T180000
DTSTAMP:20260419T125344
CREATED:20260402T215528Z
LAST-MODIFIED:20260402T215528Z
UID:4025-1788789600-1788804000@ptrwaterfront.com
SUMMARY:Labor Day with the Hometown Band
DESCRIPTION:
URL:https://ptrwaterfront.com/event/labor-day-with-the-hometown-band/
END:VEVENT
END:VCALENDAR